BEGIN:VCALENDAR
PRODID:-//eluceo/ical//2.0/EN
VERSION:2.0
CALSCALE:GREGORIAN
BEGIN:VEVENT
UID:d9605219013fdd5f46ffbf64a49f4c29
DTSTAMP:20260422T023921Z
SUMMARY:A Conversation with Sarah Hurwitz
DESCRIPTION:Jewish Federation of Lee & Charlotte Counties\nFederation Calen
 dar\nhttps://jewishfederationlcc.org/calendar/a-conversation-with-sarah-hu
 rwitz\n\nSunday\, July 12th at 4:00 P.M\n\nZoom information will be sent i
 n your registration confirmation.
DTSTART;TZID=America/New_York:20200712T160000
DTEND;TZID=America/New_York:20200712T180000
END:VEVENT
END:VCALENDAR
