BEGIN:VCALENDAR
PRODID:-//eluceo/ical//2.0/EN
VERSION:2.0
CALSCALE:GREGORIAN
BEGIN:VEVENT
UID:f8c1c55ad2649f926a9fc958feb74557
DTSTAMP:20260421T202451Z
SUMMARY:Arty Party
DESCRIPTION:Jewish Federation of Lee & Charlotte Counties\nFederation Calen
 dar\nhttps://jewishfederationlcc.org/calendar/arty-party10\n\nJust in time
  for Father’s Day!\n\nHere are some cute ideas to make at home.\n\nLink:
  https://youtu.be/Cmx4Gz8pNsA
DTSTART;TZID=America/New_York:20200610T070000
DTEND;TZID=America/New_York:20200610T235500
END:VEVENT
END:VCALENDAR
