BEGIN:VCALENDAR
PRODID:-//eluceo/ical//2.0/EN
VERSION:2.0
CALSCALE:GREGORIAN
BEGIN:VEVENT
UID:efb9ea86807b1141b285142e3c9d4467
DTSTAMP:20260426T022522Z
SUMMARY:Authors at The Table
DESCRIPTION:Jewish Federation of Lee & Charlotte Counties\nFederation Calen
 dar\nhttps://jewishfederationlcc.org/calendar/authors-at-the-table\n\nJBC 
 Authors at the Table\n\nEach week\, Jewish Book Council sits down with an 
 author of a recently released book for a quick 30-minute chat to learn abo
 ut their latest work.
DTSTART;TZID=America/New_York:20200701T123000
DTEND;TZID=America/New_York:20200701T130000
END:VEVENT
END:VCALENDAR
