BEGIN:VCALENDAR
PRODID:-//eluceo/ical//2.0/EN
VERSION:2.0
CALSCALE:GREGORIAN
BEGIN:VEVENT
UID:4ee53135b719ac6c48f5d94823ce3c55
DTSTAMP:20260421T210840Z
SUMMARY:Erev Shabbat Yoga & Meditation
DESCRIPTION:Jewish Federation of Lee & Charlotte Counties\nFederation Calen
 dar\nhttps://jewishfederationlcc.org/calendar/erev-shabbat-yoga-meditation
 1\n\nErev Shabbat Yoga & Meditation ~ (Free)\n\nA live yoga class in the c
 omfort of your home. Featuring personal instruction by Kelly Cornwall at G
 ateway Yoga.\n\nZoom information will be sent in your registration confirm
 ation.
DTSTART;TZID=America/New_York:20200710T150000
DTEND;TZID=America/New_York:20200710T160000
END:VEVENT
END:VCALENDAR
