BEGIN:VCALENDAR
PRODID:-//eluceo/ical//2.0/EN
VERSION:2.0
CALSCALE:GREGORIAN
BEGIN:VEVENT
UID:ffd4e66bd6fd7b090dcaca2ad7a1bb38
DTSTAMP:20260422T085223Z
SUMMARY:Hebrew Words with Herb Fried
DESCRIPTION:Jewish Federation of Lee & Charlotte Counties\nFederation Calen
 dar\nhttps://jewishfederationlcc.org/calendar/hebrew-words-with-herb-fried
 1112\n\nHerbert Fried is inviting you to a scheduled Zoom meeting.\n\nTopi
 c: Crazy Herb's Hebrew and Memory Training \n\nTime: 11:00 AM Eastern Tim
 e (US and Canada)\n\n \n\nAn E-Book edition on sale now for this class. 
 Link: https://www.crazyherbshebrewwords.com\n\nJoin Zoom Meeting \nhttps
 ://us02web.zoom.us/j/9617408897?pwd=WW8zL09aRi9QVnZvZWl0dTBlVXd3QT09\n\nMe
 eting ID: 961 740 8897 \nPassword: jfswf \nOne tap mobile \n+1312626679
 9\,\,9617408897#\,\,1#\,460540# US (Chicago) \n+16465588656\,\,961...
DTSTART;TZID=America/New_York:20200512T110000
DTEND;TZID=America/New_York:20200512T120000
END:VEVENT
END:VCALENDAR
