BEGIN:VCALENDAR
PRODID:-//eluceo/ical//2.0/EN
VERSION:2.0
CALSCALE:GREGORIAN
BEGIN:VEVENT
UID:de69c5185c59184118ab50e31b13abdf
DTSTAMP:20260422T002741Z
SUMMARY:Hebrew Words with Herb Fried
DESCRIPTION:Jewish Federation of Lee & Charlotte Counties\nFederation Calen
 dar\nhttps://jewishfederationlcc.org/calendar/hebrew-words-with-herb-fried
 16\n\nHerbert Fried is inviting you to a scheduled Zoom meeting. \n\n\n\nT
 opic: Crazy Herb's Hebrew and Memory Training - Jewish Federation  of Lee
  and Charlotte Counties\n\nLive Zoom class every Tuesday at11:00 AM Easter
 n Time (US and Canada)\n\nAn E-Book edition on sale now for this class. L
 ink: https://www.crazyherbshebrewwords.com\n\nJoin Zoom Meeting \nhttps:/
 /us02web.zoom.us/j/9617408897?pwd=WW8zL09aRi9QVnZvZWl0dTBlVXd3QT09\n\nMeet
 ing ID: 961 740 8897  \nPassword: jfswf  \nOne tap mobile  ...
DTSTART;TZID=America/New_York:20200616T110000
DTEND;TZID=America/New_York:20200616T120000
END:VEVENT
END:VCALENDAR
