BEGIN:VCALENDAR
PRODID:-//eluceo/ical//2.0/EN
VERSION:2.0
CALSCALE:GREGORIAN
BEGIN:VEVENT
UID:56db2ef935f639e7aa99e7148d30fbdd
DTSTAMP:20260422T152954Z
SUMMARY:Hebrew Words with Herb Fried
DESCRIPTION:Jewish Federation of Lee & Charlotte Counties\nFederation Calen
 dar\nhttps://jewishfederationlcc.org/calendar/hebrew-words-with-herb-fried
 9\n\nHerbert Fried is inviting you to a scheduled Zoom meeting. \n\n\n\nTo
 pic: Crazy Herb's Hebrew and Memory Training - Jewish Federation  of Lee 
 and Charlotte Counties\n\nLive Zoom class every Tuesday at11:00 AM Eastern
  Time (US and Canada)\n\nAn E-Book edition on sale now for this class. Li
 nk: https://www.crazyherbshebrewwords.com\n\nJoin Zoom Meeting \nhttps://
 us02web.zoom.us/j/9617408897?pwd=WW8zL09aRi9QVnZvZWl0dTBlVXd3QT09\n\nMeeti
 ng ID: 961 740 8897  \nPassword: jfswf  \nOne tap mobile  ...
DTSTART;TZID=America/New_York:20200609T110000
DTEND;TZID=America/New_York:20200609T120000
END:VEVENT
END:VCALENDAR
