BEGIN:VCALENDAR
PRODID:-//eluceo/ical//2.0/EN
VERSION:2.0
CALSCALE:GREGORIAN
BEGIN:VEVENT
UID:41dd8130fe5ca1afa7278503e04fdc97
DTSTAMP:20260423T083435Z
SUMMARY:In the Kitchen with...
DESCRIPTION:Jewish Federation of Lee & Charlotte Counties\nFederation Calen
 dar\nhttps://jewishfederationlcc.org/calendar/in-the-kitchen-with19\n\nOur
  friend the Spice Detective is whipping up some delicious recipes in his k
 itchen & wants to share them with you. \n\nBaked Lentil Meatballs  http:
 //youtu.be/l5Pc1Sg6iK4\n\nHomemade Tunisian Harissa https://youtu.be/EgUpX
 1xIEe8\n\n \n\nCilantro Ginger Roasted Salmon https://youtu.be/BE52KjzT9R
 c\n\n\n\n\n 
DTSTART;TZID=America/New_York:20200619T070000
DTEND;TZID=America/New_York:20200619T235500
END:VEVENT
END:VCALENDAR
