BEGIN:VCALENDAR
PRODID:-//eluceo/ical//2.0/EN
VERSION:2.0
CALSCALE:GREGORIAN
BEGIN:VEVENT
UID:95ff2ceecd4c47441c2fa1981975c8fb
DTSTAMP:20260422T064837Z
SUMMARY:In the Kitchen with...
DESCRIPTION:Jewish Federation of Lee & Charlotte Counties\nFederation Calen
 dar\nhttps://jewishfederationlcc.org/calendar/in-the-kitchen-with21\n\nTo 
 be announced...\n\n 
DTSTART;TZID=America/New_York:20200522T070000
DTEND;TZID=America/New_York:20200522T235500
END:VEVENT
END:VCALENDAR
