BEGIN:VCALENDAR
PRODID:-//eluceo/ical//2.0/EN
VERSION:2.0
CALSCALE:GREGORIAN
BEGIN:VEVENT
UID:ee30d7926160d9ea203efe82ac0a7c68
DTSTAMP:20260421T185311Z
SUMMARY:In the Kitchen with...
DESCRIPTION:Jewish Federation of Lee & Charlotte Counties\nFederation Calen
 dar\nhttps://jewishfederationlcc.org/calendar/in-the-kitchen-with29\n\nIns
 tant Pot Jewish Recipes\n\nDelicious meals in no time...now you can cook y
 our favorite recipes in your Instant Pot.\n\n \n\nINSTANT POT SHABBAT!!! 
 East Instant Pot Chicken & Rice Recipe - Shabbat Series Episode 5 \n\n \n
 \n\n\nThis is the best easy and delicious recipe for chicken and rice in a
 n Instapot and it is just perfect for Friday night Shabbat chicken. EXPAND
  for Recipe I hope you enjoy this fifth episode in my Summer Shabbat serie
 s! #Shabbat #Jewish #Instantpot\n\n \n\nLink:http...
DTSTART;TZID=America/New_York:20200529T070000
DTEND;TZID=America/New_York:20200529T235500
END:VEVENT
END:VCALENDAR
