BEGIN:VCALENDAR
PRODID:-//eluceo/ical//2.0/EN
VERSION:2.0
CALSCALE:GREGORIAN
BEGIN:VEVENT
UID:22e8906dac2e22187fea0e3093ebf4a1
DTSTAMP:20260421T220013Z
SUMMARY:In the Kitchen with...
DESCRIPTION:Jewish Federation of Lee & Charlotte Counties\nFederation Calen
 dar\nhttps://jewishfederationlcc.org/calendar/in-the-kitchen-with5\n\nA de
 licious and easy Israeli Shakshuka recipe you can make at home.  \n\n \n
 \n \n\n \n\nEggs are poached in a spicy tomato stew in this popular Isra
 elibreakfast called Shakshuka.\nLink: http://youtu.be/ok7LVWiQA58\n\n\n 
 \n\n 
DTSTART;TZID=America/New_York:20200605T070000
DTEND;TZID=America/New_York:20200605T235500
END:VEVENT
END:VCALENDAR
