BEGIN:VCALENDAR
PRODID:-//eluceo/ical//2.0/EN
VERSION:2.0
CALSCALE:GREGORIAN
BEGIN:VEVENT
UID:e1427f01f6c6c2a2285cb1172ee924e0
DTSTAMP:20260422T200351Z
SUMMARY:Israeli Dancing
DESCRIPTION:Jewish Federation of Lee & Charlotte Counties\nFederation Calen
 dar\nhttps://jewishfederationlcc.org/calendar/israeli-dancing0601\n\nAll d
 ay access on our website to Youtube Videos with Israeli Dancing\n\n\n\nEre
 v Ba - IFD Israeli folk dancing for beginners\n\nhttps://youtu.be/y1QrJQ2n
 ECA
DTSTART;TZID=America/New_York:20200601T080000
DTEND;TZID=America/New_York:20200601T230000
END:VEVENT
END:VCALENDAR
