BEGIN:VCALENDAR
PRODID:-//eluceo/ical//2.0/EN
VERSION:2.0
CALSCALE:GREGORIAN
BEGIN:VEVENT
UID:0868707b940370ac787527d732a104f9
DTSTAMP:20260422T123633Z
SUMMARY:Israeli Dancing
DESCRIPTION:Jewish Federation of Lee & Charlotte Counties\nFederation Calen
 dar\nhttps://jewishfederationlcc.org/calendar/israeli-dancing1\n\nAll day 
 access on our website to Youtube Videos with Israeli Dancing\n\n \n\n \n
 \n \n\n \n\nNigun Atik - IFD Israeli folk dancing for beginners\n\nLink:
  https://youtu.be/pct_yxXwHfY\n\nEretz\, Eretz \n\nLink: https://www.youtu
 be.com/watch?v=VHOleBVOCew
DTSTART;TZID=America/New_York:20200504T070000
DTEND;TZID=America/New_York:20200504T235500
END:VEVENT
END:VCALENDAR
