BEGIN:VCALENDAR
PRODID:-//eluceo/ical//2.0/EN
VERSION:2.0
CALSCALE:GREGORIAN
BEGIN:VEVENT
UID:379f35aaa59abb453da73898ca4e87e8
DTSTAMP:20260422T035928Z
SUMMARY:Israeli Dancing
DESCRIPTION:Jewish Federation of Lee & Charlotte Counties\nFederation Calen
 dar\nhttps://jewishfederationlcc.org/calendar/israeli-dancing15\n\nAll day
  access on our website to Youtube Videos with Israeli Dancing\n\n\n\nErev 
 Ba - IFD Israeli folk dancing for beginners\n\nLink: https://youtu.be/rSf
 urqTShz8
DTSTART;TZID=America/New_York:20200615T080000
DTEND;TZID=America/New_York:20200615T230000
END:VEVENT
END:VCALENDAR
