BEGIN:VCALENDAR
PRODID:-//eluceo/ical//2.0/EN
VERSION:2.0
CALSCALE:GREGORIAN
BEGIN:VEVENT
UID:ca9084a542bd8bf5188c3d25f6619c11
DTSTAMP:20260422T122749Z
SUMMARY:Israeli Dancing
DESCRIPTION:Jewish Federation of Lee & Charlotte Counties\nFederation Calen
 dar\nhttps://jewishfederationlcc.org/calendar/israeli-dancing3\n\nAll day 
 access on our website to Youtube Videos with Israeli Dancing\n\n\n\nHora N
 irkoda - IFD Israeli folk dancing for beginners\n\nhttps://youtu.be/Xxfeoq
 P1XOI\n\nLo Ahavti Dai - IFD Israeli folk dancing for beginners\n\nhttps:/
 /youtu.be/BckjDHgf1_o\n\n \n\n 
DTSTART;TZID=America/New_York:20200518T080000
DTEND;TZID=America/New_York:20200518T230000
END:VEVENT
END:VCALENDAR
