BEGIN:VCALENDAR
PRODID:-//eluceo/ical//2.0/EN
VERSION:2.0
CALSCALE:GREGORIAN
BEGIN:VEVENT
UID:233cd9099fe0260503401f5cf044c308
DTSTAMP:20260421T214357Z
SUMMARY:Israeli Dancing
DESCRIPTION:Jewish Federation of Lee & Charlotte Counties\nFederation Calen
 dar\nhttps://jewishfederationlcc.org/calendar/israeli-dancing4\n\nAll day 
 access on our website to Youtube Videos with Israeli Dancing\n\n\n\nErev B
 a - IFD Israeli folk dancing for beginners\n\nhttps://youtu.be/y1QrJQ2nECA
DTSTART;TZID=America/New_York:20200525T080000
DTEND;TZID=America/New_York:20200525T230000
END:VEVENT
END:VCALENDAR
