BEGIN:VCALENDAR
PRODID:-//eluceo/ical//2.0/EN
VERSION:2.0
CALSCALE:GREGORIAN
BEGIN:VEVENT
UID:b73a4e503df38adc955038376a0b014d
DTSTAMP:20260425T172525Z
SUMMARY:Israeli Dancing
DESCRIPTION:Jewish Federation of Lee & Charlotte Counties\nFederation Calen
 dar\nhttps://jewishfederationlcc.org/calendar/israeli-dancing8\n\nAll day 
 access on our website to Youtube Videos with Israeli Dancing\n\n\n\nErev B
 a - IFD Israeli folk dancing for beginners\n\nLink: https://youtu.be/RuOu
 DeSfj1I
DTSTART;TZID=America/New_York:20200608T080000
DTEND;TZID=America/New_York:20200608T230000
END:VEVENT
END:VCALENDAR
