BEGIN:VCALENDAR
PRODID:-//eluceo/ical//2.0/EN
VERSION:2.0
CALSCALE:GREGORIAN
BEGIN:VEVENT
UID:940636aabba9512b152f997a48b1a247
DTSTAMP:20260421T224043Z
SUMMARY:Jewish Film Festival
DESCRIPTION:Jewish Federation of Lee & Charlotte Counties\nFederation Calen
 dar\nhttps://jewishfederationlcc.org/calendar/jewish-film-festival0202\n\n
 Welcome to the Jewish Film Festival of Southwest Florida\n\n \n\n \n\nCe
 lebrating our 29th year\, the Jewish Film Festival of Southwest Florida p
 resents \n\na diverse selection of outstanding Jewish films. \n\n \n\nIn
  February 2025\, join us for another year of engaging films that examine J
 ewish history\, heritage\, and culture. \n\n \n\nSNEEK PREVIEW....\n\n 
DTSTART;TZID=America/New_York:20250202T150000
DTEND;TZID=America/New_York:20250202T170000
END:VEVENT
END:VCALENDAR
