BEGIN:VCALENDAR
PRODID:-//eluceo/ical//2.0/EN
VERSION:2.0
CALSCALE:GREGORIAN
BEGIN:VEVENT
UID:b283271cfc6d42b16211c672fa22efab
DTSTAMP:20260421T185208Z
SUMMARY:Lunch Bunch
DESCRIPTION:Jewish Federation of Lee & Charlotte Counties\nFederation Calen
 dar\nhttps://jewishfederationlcc.org/calendar/lunch-bunch0225\n\n
DTSTART;TZID=America/New_York:20260225T120000
DTEND;TZID=America/New_York:20260225T133000
END:VEVENT
END:VCALENDAR
