BEGIN:VCALENDAR
PRODID:-//eluceo/ical//2.0/EN
VERSION:2.0
CALSCALE:GREGORIAN
BEGIN:VEVENT
UID:a287b6536a1b204cfe0d9654ccdbd655
DTSTAMP:20260421T142907Z
SUMMARY:Out & About Films at Home
DESCRIPTION:Jewish Federation of Lee & Charlotte Counties\nFederation Calen
 dar\nhttps://jewishfederationlcc.org/calendar/out-about-films-at-home1\n\n
 THE ANTHROPOLOGIST\n\n\n\nTHE ANTHROPOLOGIST examines climate change like 
 no other film before. The fate of the planet is considered from the perspe
 ctive of American teenager Katie Crate. Over the course of five years\, sh
 e travels alongside her mother Susie\, an anthropologist studying the impa
 ct of climate change on indigenous communities. Their journey parallels th
 at of renowned anthropologist Margaret Mead\, who for decades sought to un
 derstand how global change affects remote cultures.\n\nW...
DTSTART;TZID=America/New_York:20200507T070000
DTEND;TZID=America/New_York:20200509T235500
END:VEVENT
END:VCALENDAR
