BEGIN:VCALENDAR
PRODID:-//eluceo/ical//2.0/EN
VERSION:2.0
CALSCALE:GREGORIAN
BEGIN:VEVENT
UID:b836546c8f6ab9d98d1d65f65da392c4
DTSTAMP:20260421T210900Z
SUMMARY:Out & About Films at Home
DESCRIPTION:Jewish Federation of Lee & Charlotte Counties\nFederation Calen
 dar\nhttps://jewishfederationlcc.org/calendar/out-about-films-at-home11\n\
 nARRANGED\n\nARRANGED centers on the friendship between an Orthodox Jewish
  woman and a Muslim woman who meet as first-year teachers at a public scho
 ol in Brooklyn. Over the course of the year they learn they share much in 
 common - not least of which is that they are both going through the proces
 s of arranged marriages.\n\nLink: https://tubitv.com/movies/30829/arrange
 d?start=true
DTSTART;TZID=America/New_York:20200709T070000
DTEND;TZID=America/New_York:20200710T235500
END:VEVENT
END:VCALENDAR
