BEGIN:VCALENDAR
PRODID:-//eluceo/ical//2.0/EN
VERSION:2.0
CALSCALE:GREGORIAN
BEGIN:VEVENT
UID:c6dd8262e7471a455959e5db17fa4d15
DTSTAMP:20260421T142858Z
SUMMARY:Out & About Films at Home
DESCRIPTION:Jewish Federation of Lee & Charlotte Counties\nFederation Calen
 dar\nhttps://jewishfederationlcc.org/calendar/out-about-films-at-home16\n\
 nThe Band's Visit\n\nA musical band made up of Egyptian police officers go
 es to Israel to play at the opening of an Arab arts center only to end up 
 lost in the wrong town.\n\nhttps://tubitv.com/movies/528739/the_bands_visi
 t
DTSTART;TZID=America/New_York:20200716T070000
DTEND;TZID=America/New_York:20200717T235500
END:VEVENT
END:VCALENDAR
