BEGIN:VCALENDAR
PRODID:-//eluceo/ical//2.0/EN
VERSION:2.0
CALSCALE:GREGORIAN
BEGIN:VEVENT
UID:bdc29a23333a845ed38f494f82393ef5
DTSTAMP:20260421T142841Z
SUMMARY:Out & About Films at Home
DESCRIPTION:Jewish Federation of Lee & Charlotte Counties\nFederation Calen
 dar\nhttps://jewishfederationlcc.org/calendar/out-about-films-at-home18\n\
 nAn interview with Deborah Feldman\n\n\nIn this video Author Arnon Grunber
 g talks with best selling author Deborah Feldman - who left the ultra-orth
 odox Jewish community in Williamsburg - about her life in a parallel socie
 ty and the search for her own identity.\n\n \n\n \n\nLink: Arnon Grunbe
 rg meets Deborah Feldman\n\n 
DTSTART;TZID=America/New_York:20200618T070000
DTEND;TZID=America/New_York:20200620T235500
END:VEVENT
END:VCALENDAR
