BEGIN:VCALENDAR
PRODID:-//eluceo/ical//2.0/EN
VERSION:2.0
CALSCALE:GREGORIAN
BEGIN:VEVENT
UID:1cb831d5501ce4742c1d664cd3c1bc8b
DTSTAMP:20260422T000942Z
SUMMARY:Out & About Films at Home
DESCRIPTION:Jewish Federation of Lee & Charlotte Counties\nFederation Calen
 dar\nhttps://jewishfederationlcc.org/calendar/out-about-films-at-home2\n\n
 Above & Beyond\n\nWould you risk everything - your future\, your citizensh
 ip\, even your life - to help a brother in need?\n\nLink: https://tubitv.
 com/movies/405406/above_and_beyond?start=true
DTSTART;TZID=America/New_York:20200702T070000
DTEND;TZID=America/New_York:20200703T235500
END:VEVENT
END:VCALENDAR
