BEGIN:VCALENDAR
PRODID:-//eluceo/ical//2.0/EN
VERSION:2.0
CALSCALE:GREGORIAN
BEGIN:VEVENT
UID:52298ae0251b0daa316fc9eadc6ccbee
DTSTAMP:20260421T142847Z
SUMMARY:Out & About Films at Home
DESCRIPTION:Jewish Federation of Lee & Charlotte Counties\nFederation Calen
 dar\nhttps://jewishfederationlcc.org/calendar/out-about-films-at-home23\n\
 nHoly Lands\n\nA Jewish American doctor’s choice to leave America to liv
 e as a pig farmer in Israel shocks his family and causes certain issues in
  his new community.\n\nhttps://tubitv.com/movies/518500/holy_lands?start=t
 rue
DTSTART;TZID=America/New_York:20200723T070000
DTEND;TZID=America/New_York:20200724T235500
END:VEVENT
END:VCALENDAR
