BEGIN:VCALENDAR
PRODID:-//eluceo/ical//2.0/EN
VERSION:2.0
CALSCALE:GREGORIAN
BEGIN:VEVENT
UID:c267729344339a9baebd9607f07ffe7e
DTSTAMP:20260422T020246Z
SUMMARY:Out & About Films at Home
DESCRIPTION:Jewish Federation of Lee & Charlotte Counties\nFederation Calen
 dar\nhttps://jewishfederationlcc.org/calendar/out-about-films-at-home28\n\
 nA Matter of Size\n\ntells the story of four overweight friends from the I
 sraeli city of Ramle who are fed up of dieting and the weight loss club th
 ey belong to. Herzl (Itzik Cohen) has been struggling with his weight ever
  since he was young\, and his overbearing mother made it no easier on him.
  When he loses his job as a cook and starts washing dishes in a Japanese r
 estaurant\, Herzl discovers the world of Sumo\, where large people such as
  himself are honored and appreciated.\n\nLink: https://vi...
DTSTART;TZID=America/New_York:20200528T070000
DTEND;TZID=America/New_York:20200530T235500
END:VEVENT
END:VCALENDAR
