BEGIN:VCALENDAR
PRODID:-//eluceo/ical//2.0/EN
VERSION:2.0
CALSCALE:GREGORIAN
BEGIN:VEVENT
UID:b2712f8e0c77c68f7a40a8367fdd3e6a
DTSTAMP:20260422T062102Z
SUMMARY:Out & About Films at Home
DESCRIPTION:Jewish Federation of Lee & Charlotte Counties\nFederation Calen
 dar\nhttps://jewishfederationlcc.org/calendar/out-about-films-at-home3\n\n
 An Israeli Love Story\n\n\n\nThe true story of the love between Eli Ben-Zi
 on\, son of the second president of Israel and Margalit\, an aspiring actr
 ess. Set in pre-state Israel\, the two are torn between their love for one
  another and the future Nation.\n\nLink: https://vimeo.com/415623567\n\n
 Video password: FortMyers 
DTSTART;TZID=America/New_York:20200521T070000
DTEND;TZID=America/New_York:20200523T235500
END:VEVENT
END:VCALENDAR
