BEGIN:VCALENDAR
PRODID:-//eluceo/ical//2.0/EN
VERSION:2.0
CALSCALE:GREGORIAN
BEGIN:VEVENT
UID:58a43a0629500203559f917c23eebecb
DTSTAMP:20260422T043844Z
SUMMARY:Out & About Films at Home
DESCRIPTION:Jewish Federation of Lee & Charlotte Counties\nFederation Calen
 dar\nhttps://jewishfederationlcc.org/calendar/out-about-films-at-home4\n\n
 The Mover\n\nOffers a gripping account of Zanis Lipke\, a blue-collar work
 er honoured as one of the 'Righteous Among the Nations' for his heroic dee
 ds during the war. Despite his family's hardship under successive Soviet a
 nd German occupations\, Lipke embarked on a covert operation to save local
  Jews from Nazi persecution and certain death\, moving them from the Riga 
 ghetto to an underground bunker hidden on his property. From the start\, F
 ilmmaker Davis Simanis creates a powerfully ominous and s...
DTSTART;TZID=America/New_York:20200604T070000
DTEND;TZID=America/New_York:20200606T235500
END:VEVENT
END:VCALENDAR
