BEGIN:VCALENDAR
PRODID:-//eluceo/ical//2.0/EN
VERSION:2.0
CALSCALE:GREGORIAN
BEGIN:VEVENT
UID:ff2fb919db11b261b98e73aed408b1dd
DTSTAMP:20260422T043834Z
SUMMARY:Out & About Films at Home
DESCRIPTION:Jewish Federation of Lee & Charlotte Counties\nFederation Calen
 dar\nhttps://jewishfederationlcc.org/calendar/out-about-films-at-home7\n\n
 BETWEEN WORLDS\n\n\n\nAn attack on the secular son of an Orthodox family s
 ets up a collision between two families and two cultures. The son is visit
 ed in the hospital by his mother\, Bina\, with this tragic event creating 
 the first opportunity for the two to reconnect since the boy “lost his w
 ay.”\n\nAt the hospital\, Bina finds solace talking with a young Arab wo
 man\, Amal\, seemingly there to tend to her own ailing father. But Amal ha
 s a secret\, and as it starts to come to light\, so begins a...
DTSTART;TZID=America/New_York:20200514T070000
DTEND;TZID=America/New_York:20200516T235500
END:VEVENT
END:VCALENDAR
