BEGIN:VCALENDAR
PRODID:-//eluceo/ical//2.0/EN
VERSION:2.0
CALSCALE:GREGORIAN
BEGIN:VEVENT
UID:6880f655a7064c0c2e8faf6ba1cf7253
DTSTAMP:20260422T015118Z
SUMMARY:PJ Library Virtual Book Club
DESCRIPTION:Jewish Federation of Lee & Charlotte Counties\nFederation Calen
 dar\nhttps://jewishfederationlcc.org/calendar/pj-library-virtual-book-club
 24\n\nAnimated Read-Along: \n\nThe Missing Ingredient\n\n\n\nEnjoy a speci
 al animated version of The Missing Ingredient\, the story booklet that arr
 ived with a special PJ Library gift. The Missing Ingredient is based on a 
 Jewish folktale and is retold in this story by Naomi Shulman and featured 
 in an episode of the PJ Library podcast. Illustrations by Barb Bastian. \
 n\n \n\nLink: https://youtu.be/fhG-2xhdOAQ
DTSTART;TZID=America/New_York:20200524T070000
DTEND;TZID=America/New_York:20200524T235500
END:VEVENT
END:VCALENDAR
