BEGIN:VCALENDAR
PRODID:-//eluceo/ical//2.0/EN
VERSION:2.0
CALSCALE:GREGORIAN
BEGIN:VEVENT
UID:b755ffe5cc0cc6017eea19d576dd8050
DTSTAMP:20260421T225739Z
SUMMARY:PJ Library Virtual Book Club
DESCRIPTION:Jewish Federation of Lee & Charlotte Counties\nFederation Calen
 dar\nhttps://jewishfederationlcc.org/calendar/pj-library-virtual-book-club
 7\n\nRabbi Johanna reads a PJ Library book called \n\nThe Rooster Prince o
 f Breslov\n\n\n\nThis picture book brings a light touch and engaging silli
 ness to the story of a prince who rejects the lavish luxury of his upbring
 ing in favor of a life as. . . a rooster. The only person who can persuade
  the prince to reconsider is neither a doctor nor a magician but a wise te
 acher who is willing to become a rooster too. Told to the author by her gr
 andmother\, who brought it from Eastern Europe a century ag...
DTSTART;TZID=America/New_York:20200607T070000
DTEND;TZID=America/New_York:20200607T235500
END:VEVENT
END:VCALENDAR
