BEGIN:VCALENDAR
PRODID:-//eluceo/ical//2.0/EN
VERSION:2.0
CALSCALE:GREGORIAN
BEGIN:VEVENT
UID:4c4c1d61325eae8672109d4fff02b632
DTSTAMP:20260422T002543Z
SUMMARY:PL Library Story Time
DESCRIPTION:Jewish Federation of Lee & Charlotte Counties\nFederation Calen
 dar\nhttps://jewishfederationlcc.org/calendar/pl-library-story-time\n\nPJ 
 Library Storytime\n\nhttps://pjlibrary.org/podcast/david-and-the-spider\n\
 n \n\nPJ Library Dance Along\n\nhttps://www.youtube.com/watch?v=ZBK7xfHoO
 VA\n\n \n\n 
DTSTART;TZID=America/New_York:20200628T070000
DTEND;TZID=America/New_York:20200628T235500
END:VEVENT
END:VCALENDAR
