BEGIN:VCALENDAR
PRODID:-//eluceo/ical//2.0/EN
VERSION:2.0
CALSCALE:GREGORIAN
BEGIN:VEVENT
UID:4ac801d7e3a8de8ff064e18731572473
DTSTAMP:20260426T030859Z
SUMMARY:Short Films Sundays
DESCRIPTION:Jewish Federation of Lee & Charlotte Counties\nFederation Calen
 dar\nhttps://jewishfederationlcc.org/calendar/short-films-sundays\n\nFAULT
 \n\nshort film from Eric Goldberg\n\nhttps://youtu.be/FjKCzLgwxXc
DTSTART;TZID=America/New_York:20200705T070000
DTEND;TZID=America/New_York:20200705T235500
END:VEVENT
END:VCALENDAR
