BEGIN:VCALENDAR
PRODID:-//eluceo/ical//2.0/EN
VERSION:2.0
CALSCALE:GREGORIAN
BEGIN:VEVENT
UID:6386be2086fa732ea6f77432e6c2d655
DTSTAMP:20260422T081700Z
SUMMARY:Summer Concert Series
DESCRIPTION:Jewish Federation of Lee & Charlotte Counties\nFederation Calen
 dar\nhttps://jewishfederationlcc.org/calendar/summer-concert-series\n\nSum
 mer Concert Series - Sponsored by our friends at the Jewish Federation of 
 Sarasota-Manatee\n\nGershwin to Puccini featuring Brian Gurl & Michele Pru
 yn\n\nPiano meets voice. Brian joins forces with one of the most versatile
  and gifted vocalists you’ll ever experience. From Rhapsody In Blue to E
 mbraceable You and Hey Big Spender to O Mio Babbino Caro\, enjoy the music
  of George Gershwin plus favorites from jazz to opera.\n\n \n\n\nRegister
  here: https://form.jotform.com/201524291691150\n\n...
DTSTART;TZID=America/New_York:20200722T193000
DTEND;TZID=America/New_York:20200722T210000
END:VEVENT
END:VCALENDAR
