BEGIN:VCALENDAR
PRODID:-//eluceo/ical//2.0/EN
VERSION:2.0
CALSCALE:GREGORIAN
BEGIN:VEVENT
UID:0adadb2c7a215eca690e5bbc04df4b94
DTSTAMP:20260421T224058Z
SUMMARY:Sunday Israel Concert Series
DESCRIPTION:Jewish Federation of Lee & Charlotte Counties\nFederation Calen
 dar\nhttps://jewishfederationlcc.org/calendar/sunday-israel-concert-series
 10\n\nAn event presented by:\n\n\n\n \n\n \n\nCONCERT\n\nLahav Shani con
 ducts Beethoven and Brahms – With Martha Argerich\n\nIsrael Philharmonic
  Orchestra\n\n \n\n \n\nPlease use the following to log on and view the 
 full Israel Philharmonic Orchestra Concert:\n\n \n\nEmail: debbiesanford@
 jfedlcc.org\n\nPassword: JFEDguestaccount\n\n \n\nhttps://www.medici.tv/e
 n/concerts/lahav-shani-conducts-beethoven-and-brahms-martha-argerich/#\n\n
  
DTSTART;TZID=America/New_York:20200510T070000
DTEND;TZID=America/New_York:20200510T235500
END:VEVENT
END:VCALENDAR
