BEGIN:VCALENDAR
PRODID:-//eluceo/ical//2.0/EN
VERSION:2.0
CALSCALE:GREGORIAN
BEGIN:VEVENT
UID:3ff11024b32f92aad2d095d68b5d3a7a
DTSTAMP:20260421T224107Z
SUMMARY:Sunday Israel Concert Series
DESCRIPTION:Jewish Federation of Lee & Charlotte Counties\nFederation Calen
 dar\nhttps://jewishfederationlcc.org/calendar/sunday-israel-concert-series
 14\n\nA 60 minute special that appeared on CBS News this week. \n\n \n\n
 60 Minutes Presents: The Lost Music\n\nMore than 6 million people\, most o
 f them Jews\, died in the Holocaust. The music they wrote as a temporary e
 scape\, however\, did not\, thanks in part to the efforts of an Italian co
 mposer and pianist.\n\nLink: 60 Minutes Presents: The Lost Music\n\n 
DTSTART;TZID=America/New_York:20200614T070000
DTEND;TZID=America/New_York:20200614T235500
END:VEVENT
END:VCALENDAR
