BEGIN:VCALENDAR
PRODID:-//eluceo/ical//2.0/EN
VERSION:2.0
CALSCALE:GREGORIAN
BEGIN:VEVENT
UID:166fc0458a159ddd9e68cb4e74c0b7b9
DTSTAMP:20260421T224047Z
SUMMARY:Sunday Israel Concert Series
DESCRIPTION:Jewish Federation of Lee & Charlotte Counties\nFederation Calen
 dar\nhttps://jewishfederationlcc.org/calendar/sunday-israel-concert-series
 17\n\nThe beauty of A cappella \n\nDarkeinu (Our Path) - Tizmoret (Virtual
  Choir Cover) / arr. Daniel Henkin #QuaranTunes\n\nLink: https://youtu.be
 /p9NrEKCgtdk\n\n \n\nY-Studs A Cappella\n\nY-Studs A Cappella proudly pre
 sents\, the Evolution of Jewish Music! Based on Pentatonix’s “Evolutio
 n of Music."\n\nLink: https://youtu.be/gbeArPQqsc8\n\n \n\nAri Goldwag ~
  Smile (A Cappella Video)\n\nTo have Ari Goldwag at your Event/Simcha cont
 act: bookings@arigoldwag.com\n\nLink: http://youtu.be/oxP1n...
DTSTART;TZID=America/New_York:20200517T070000
DTEND;TZID=America/New_York:20200517T235500
END:VEVENT
END:VCALENDAR
