BEGIN:VCALENDAR
PRODID:-//eluceo/ical//2.0/EN
VERSION:2.0
CALSCALE:GREGORIAN
BEGIN:VEVENT
UID:638895080245b1ca713f8515bbf0243c
DTSTAMP:20260421T224117Z
SUMMARY:Sunday Israel Concert Series
DESCRIPTION:Jewish Federation of Lee & Charlotte Counties\nFederation Calen
 dar\nhttps://jewishfederationlcc.org/calendar/sunday-israel-concert-series
 24\n\nfeaturing Itzhak Perlman \n\nBeethoven - Egmont Overture\n\nBeethov
 en - Symphony No. 6\n\nProduced for television by Fantasia Productions Ltd
  - Dani Dror\n\nLink: https://youtu.be/yCrnR_-oVec\n\n \n\n \n\n\n \n\
 n\n \n\n \n\n\n \n\n\n \n\n 
DTSTART;TZID=America/New_York:20200524T070000
DTEND;TZID=America/New_York:20200524T235500
END:VEVENT
END:VCALENDAR
