BEGIN:VCALENDAR
PRODID:-//eluceo/ical//2.0/EN
VERSION:2.0
CALSCALE:GREGORIAN
BEGIN:VEVENT
UID:1636f15e4c83c42f1e2797c529fe3fc1
DTSTAMP:20260421T210850Z
SUMMARY:Virtual Global Celebration for Israel's 72nd Birthday
DESCRIPTION:Jewish Federation of Lee & Charlotte Counties\nFederation Calen
 dar\nhttps://jewishfederationlcc.org/calendar/virtual-global-celebration-f
 or-israels-72nd-birthday\n\nThe Jewish Federation of North America (JFNA) 
 is hosting a virtual live global celebration to toast Israel's 72nd birthd
 ay\, and you're invited!\n\n \n\n \n\nThis day of festivities will featu
 re....music\, celebrity guests and the opporunity to collectively celebrat
 e Israel's Independence Day.\n\nLink: www.facebook.com/events/609280006321
 567
DTSTART;TZID=America/New_York:20200429T133000
DTEND;TZID=America/New_York:20200429T235500
END:VEVENT
END:VCALENDAR
