BEGIN:VCALENDAR
PRODID:-//eluceo/ical//2.0/EN
VERSION:2.0
CALSCALE:GREGORIAN
BEGIN:VEVENT
UID:9b5abaf9021fb24f5e02dc4737763a1b
DTSTAMP:20260421T223132Z
SUMMARY:Wine Down Wednesdays
DESCRIPTION:Jewish Federation of Lee & Charlotte Counties\nFederation Calen
 dar\nhttps://jewishfederationlcc.org/calendar/wine-down-wednesdays\n\nWine
  lovers will rejoice as Jerry Greenfield shares some recommendations on ne
 w wines to try and get the chance to see old friends and make some new one
 s.\n\nTune in\, kick back and relax for a happy hour... don’t forget you
 r glass of wine!\n\nJoin Zoom Meeting\n\nhttps://us02web.zoom.us/j/9373081
 714?pwd=NGFoeTFXOUI4eUM1UjJaeWN4NERjUT09\n\nMeeting ID: 937 308 1714\n\nPa
 ssword: 374014
DTSTART;TZID=America/New_York:20200527T190000
DTEND;TZID=America/New_York:20200527T200000
END:VEVENT
END:VCALENDAR
