BEGIN:VCALENDAR
PRODID:-//eluceo/ical//2.0/EN
VERSION:2.0
CALSCALE:GREGORIAN
BEGIN:VEVENT
UID:4aca16db5c98f37d828990eff7240244
DTSTAMP:20260421T185251Z
SUMMARY:Wine Down Wednesdays
DESCRIPTION:Jewish Federation of Lee & Charlotte Counties\nFederation Calen
 dar\nhttps://jewishfederationlcc.org/calendar/wine-down-wednesdays13\n\nWi
 ne lovers will rejoice as Jerry Greenfield shares some recommendations on 
 new wines to try and get the chance to see old friends and make some new o
 nes.\n\nTune in\, kick back and relax for a happy hour... don’t forget y
 our glass of wine!\n\n \n\nJoin Zoom Meeting\n\nhttps://us02web.zoom.us/j
 /9373081714?pwd=NGFoeTFXOUI4eUM1UjJaeWN4NERjUT09\n\nMeeting ID: 937 308 17
 14\n\nPassword: 374014
DTSTART;TZID=America/New_York:20200513T190000
DTEND;TZID=America/New_York:20200513T200000
END:VEVENT
END:VCALENDAR
