BEGIN:VCALENDAR
PRODID:-//eluceo/ical//2.0/EN
VERSION:2.0
CALSCALE:GREGORIAN
BEGIN:VEVENT
UID:70dd37266ceb419097a339d8064ea252
DTSTAMP:20260421T231225Z
SUMMARY:Wine Down Wednesdays
DESCRIPTION:Jewish Federation of Lee & Charlotte Counties\nFederation Calen
 dar\nhttps://jewishfederationlcc.org/calendar/wine-down-wednesdays8\n\nWin
 e lovers will rejoice as Jerry Greenfield shares some recommendations on n
 ew wines to try and get the chance to see old friends and make some new on
 es.\n\nTune in\, kick back and relax for a happy hour... don’t forget yo
 ur glass of wine!\n\n \n\nJoin Zoom Meeting\n\nhttps://us02web.zoom.us/j/
 9373081714?pwd=NGFoeTFXOUI4eUM1UjJaeWN4NERjUT09\n\nMeeting ID: 937 308 171
 4\n\nPassword: 374014
DTSTART;TZID=America/New_York:20200708T190000
DTEND;TZID=America/New_York:20200708T210000
END:VEVENT
END:VCALENDAR
